BEGIN:VCALENDAR
VERSION:2.0
PRODID:-//Historical Society of Phillipston - ECPv6.15.20//NONSGML v1.0//EN
CALSCALE:GREGORIAN
METHOD:PUBLISH
X-ORIGINAL-URL:https://phillipston.org
X-WR-CALDESC:Events for Historical Society of Phillipston
REFRESH-INTERVAL;VALUE=DURATION:PT1H
X-Robots-Tag:noindex
X-PUBLISHED-TTL:PT1H
BEGIN:VTIMEZONE
TZID:America/New_York
BEGIN:DAYLIGHT
TZOFFSETFROM:-0500
TZOFFSETTO:-0400
TZNAME:EDT
DTSTART:20230312T070000
END:DAYLIGHT
BEGIN:STANDARD
TZOFFSETFROM:-0400
TZOFFSETTO:-0500
TZNAME:EST
DTSTART:20231105T060000
END:STANDARD
BEGIN:DAYLIGHT
TZOFFSETFROM:-0500
TZOFFSETTO:-0400
TZNAME:EDT
DTSTART:20240310T070000
END:DAYLIGHT
BEGIN:STANDARD
TZOFFSETFROM:-0400
TZOFFSETTO:-0500
TZNAME:EST
DTSTART:20241103T060000
END:STANDARD
BEGIN:DAYLIGHT
TZOFFSETFROM:-0500
TZOFFSETTO:-0400
TZNAME:EDT
DTSTART:20250309T070000
END:DAYLIGHT
BEGIN:STANDARD
TZOFFSETFROM:-0400
TZOFFSETTO:-0500
TZNAME:EST
DTSTART:20251102T060000
END:STANDARD
END:VTIMEZONE
BEGIN:VEVENT
DTSTART;TZID=America/New_York:20240709T190000
DTEND;TZID=America/New_York:20240709T200000
DTSTAMP:20260425T082546
CREATED:20240625T112054Z
LAST-MODIFIED:20240625T112054Z
UID:404-1720551600-1720555200@phillipston.org
SUMMARY:Meet and Greet
DESCRIPTION:Meet our counterparts of Petersham’s historical society and find out what they are doing this summer. Join us as we show them the canoe found in Queen Lake\, as well as our updated exhibit about our town’s veterans – past and present and some new exhibits including one on recreation (10 ft. winter skis\, anyone?) and another on clothing of the past.
URL:https://phillipston.org/event/meet-and-greet/
LOCATION:Historical Society of Phillipston Museum\, 80 State Road\, Phillipston\, MA\, 01331\, United States
END:VEVENT
END:VCALENDAR