BEGIN:VCALENDAR
VERSION:2.0
PRODID:-//Historical Society of Phillipston - ECPv6.15.20//NONSGML v1.0//EN
CALSCALE:GREGORIAN
METHOD:PUBLISH
X-ORIGINAL-URL:https://phillipston.org
X-WR-CALDESC:Events for Historical Society of Phillipston
REFRESH-INTERVAL;VALUE=DURATION:PT1H
X-Robots-Tag:noindex
X-PUBLISHED-TTL:PT1H
BEGIN:VTIMEZONE
TZID:America/New_York
BEGIN:DAYLIGHT
TZOFFSETFROM:-0500
TZOFFSETTO:-0400
TZNAME:EDT
DTSTART:20230312T070000
END:DAYLIGHT
BEGIN:STANDARD
TZOFFSETFROM:-0400
TZOFFSETTO:-0500
TZNAME:EST
DTSTART:20231105T060000
END:STANDARD
BEGIN:DAYLIGHT
TZOFFSETFROM:-0500
TZOFFSETTO:-0400
TZNAME:EDT
DTSTART:20240310T070000
END:DAYLIGHT
BEGIN:STANDARD
TZOFFSETFROM:-0400
TZOFFSETTO:-0500
TZNAME:EST
DTSTART:20241103T060000
END:STANDARD
BEGIN:DAYLIGHT
TZOFFSETFROM:-0500
TZOFFSETTO:-0400
TZNAME:EDT
DTSTART:20250309T070000
END:DAYLIGHT
BEGIN:STANDARD
TZOFFSETFROM:-0400
TZOFFSETTO:-0500
TZNAME:EST
DTSTART:20251102T060000
END:STANDARD
END:VTIMEZONE
BEGIN:VEVENT
DTSTART;TZID=America/New_York:20240521T183000
DTEND;TZID=America/New_York:20240521T200000
DTSTAMP:20260425T115059
CREATED:20240517T114351Z
LAST-MODIFIED:20240517T114351Z
UID:395-1716316200-1716321600@phillipston.org
SUMMARY:Historical Society of Phillipston\, Inc. Annual Meeting
DESCRIPTION:Everyone is welcome to attend the annual meeting of the Historical Society! At the meeting we’ll review the Society’s accomplishments over the past year and hear some plans for the coming year. We’ll also be electing officers\, directors and committee members. You do not have to be a member to attend\, but only members can vote. Membership is $5/yr. You can join the Society at the meeting. The museum was closed last summer while we repaired cosmetic cracks in the walls and ceiling that were caused by moving the building. The cracks were fixed\, the walls and ceiling were painted\, display cases were returned to their spots and everything was dusted and cleaned. The rear of the building was sided and painted. We had two notable acquisitions: a Doodlebug that was created and used by our own highway department in the 1940s\, and the huge\, first safe used by the Town. Now our Curator and crew are putting the museum exhibits back together and planning Open House hours for this summer. Come to our Annual Meeting. Hear more about our accomplishments and join us as we plan for the coming year. We welcome everyone with a curiosity about the town\, or a love of history\, or a desire to be part of an organization where every person counts. Please join us\, become a member\, get involved\, or just cheer us on. We look forward to seeing you there. \nMike Flye President
URL:https://phillipston.org/event/historical-society-of-phillipston-inc-annual-meeting/
LOCATION:Congregational Church Vestry\, The Commons\, Phillipston\, MA\, United States
END:VEVENT
END:VCALENDAR