BEGIN:VCALENDAR
VERSION:2.0
PRODID:-//Historical Society of Phillipston - ECPv6.15.20//NONSGML v1.0//EN
CALSCALE:GREGORIAN
METHOD:PUBLISH
X-WR-CALNAME:Historical Society of Phillipston
X-ORIGINAL-URL:https://phillipston.org
X-WR-CALDESC:Events for Historical Society of Phillipston
REFRESH-INTERVAL;VALUE=DURATION:PT1H
X-Robots-Tag:noindex
X-PUBLISHED-TTL:PT1H
BEGIN:VTIMEZONE
TZID:America/New_York
BEGIN:DAYLIGHT
TZOFFSETFROM:-0500
TZOFFSETTO:-0400
TZNAME:EDT
DTSTART:20200308T070000
END:DAYLIGHT
BEGIN:STANDARD
TZOFFSETFROM:-0400
TZOFFSETTO:-0500
TZNAME:EST
DTSTART:20201101T060000
END:STANDARD
BEGIN:DAYLIGHT
TZOFFSETFROM:-0500
TZOFFSETTO:-0400
TZNAME:EDT
DTSTART:20210314T070000
END:DAYLIGHT
BEGIN:STANDARD
TZOFFSETFROM:-0400
TZOFFSETTO:-0500
TZNAME:EST
DTSTART:20211107T060000
END:STANDARD
BEGIN:DAYLIGHT
TZOFFSETFROM:-0500
TZOFFSETTO:-0400
TZNAME:EDT
DTSTART:20220313T070000
END:DAYLIGHT
BEGIN:STANDARD
TZOFFSETFROM:-0400
TZOFFSETTO:-0500
TZNAME:EST
DTSTART:20221106T060000
END:STANDARD
BEGIN:DAYLIGHT
TZOFFSETFROM:-0500
TZOFFSETTO:-0400
TZNAME:EDT
DTSTART:20230312T070000
END:DAYLIGHT
BEGIN:STANDARD
TZOFFSETFROM:-0400
TZOFFSETTO:-0500
TZNAME:EST
DTSTART:20231105T060000
END:STANDARD
END:VTIMEZONE
BEGIN:VEVENT
DTSTART;TZID=America/New_York:20220517T183000
DTEND;TZID=America/New_York:20220517T210000
DTSTAMP:20260425T101742
CREATED:20210915T184623Z
LAST-MODIFIED:20210915T191045Z
UID:56-1652812200-1652821200@phillipston.org
SUMMARY:Pot Luck Supper and Annual Meeting
DESCRIPTION:Details and agenda TBS.
URL:https://phillipston.org/event/pot-luck-supper-and-annual-meeting/
LOCATION:Congregational Church Vestry\, The Commons\, Phillipston\, MA\, United States
END:VEVENT
BEGIN:VEVENT
DTSTART;TZID=America/New_York:20220412T190000
DTEND;TZID=America/New_York:20220412T210000
DTSTAMP:20260425T101742
CREATED:20210915T200418Z
LAST-MODIFIED:20210915T200418Z
UID:94-1649790000-1649797200@phillipston.org
SUMMARY:Let There Be Light
DESCRIPTION:A history of Lamps.  Presented by Carole Gariepy
URL:https://phillipston.org/event/let-there-be-light/
LOCATION:Congregational Church Vestry\, The Commons\, Phillipston\, MA\, United States
END:VEVENT
BEGIN:VEVENT
DTSTART;TZID=America/New_York:20220315T190000
DTEND;TZID=America/New_York:20220315T210000
DTSTAMP:20260425T101742
CREATED:20210915T195823Z
LAST-MODIFIED:20210915T195823Z
UID:87-1647370800-1647378000@phillipston.org
SUMMARY:Memories of an Antique Dealer
DESCRIPTION:Presented by Sandra Larson
URL:https://phillipston.org/event/memories-of-an-antique-dealer/
LOCATION:Congregational Church Vestry\, The Commons\, Phillipston\, MA\, United States
END:VEVENT
BEGIN:VEVENT
DTSTART;TZID=America/New_York:20211205T163000
DTEND;TZID=America/New_York:20211205T163000
DTSTAMP:20260425T101742
CREATED:20210915T195844Z
LAST-MODIFIED:20210915T195844Z
UID:83-1638721800-1638721800@phillipston.org
SUMMARY:Memory Tree and 2021 Public Service Award
DESCRIPTION:
URL:https://phillipston.org/event/memory-tree-and-2021-public-service-award/
LOCATION:Tree on the Common\, then Congregational Church Sanctuary
END:VEVENT
BEGIN:VEVENT
DTSTART;TZID=America/New_York:20211116T190000
DTEND;TZID=America/New_York:20211116T210000
DTSTAMP:20260425T101742
CREATED:20210915T195901Z
LAST-MODIFIED:20210915T195901Z
UID:81-1637089200-1637096400@phillipston.org
SUMMARY:An Evening of Sharing
DESCRIPTION:Bring an old or new item and share its story.
URL:https://phillipston.org/event/an-evening-of-sharing/
LOCATION:Congregational Church Vestry\, The Commons\, Phillipston\, MA\, United States
END:VEVENT
BEGIN:VEVENT
DTSTART;TZID=America/New_York:20211019T190000
DTEND;TZID=America/New_York:20211019T210000
DTSTAMP:20260425T101742
CREATED:20210915T195948Z
LAST-MODIFIED:20211019T110836Z
UID:79-1634670000-1634677200@phillipston.org
SUMMARY:Museum presentation cancelled
DESCRIPTION:Today’s event is cancelled because of COVID-19 community spread.
URL:https://phillipston.org/event/museum-surprises/
LOCATION:Congregational Church Vestry\, The Commons\, Phillipston\, MA\, United States
END:VEVENT
BEGIN:VEVENT
DTSTART;TZID=America/New_York:20210921T190000
DTEND;TZID=America/New_York:20210921T210000
DTSTAMP:20260425T101742
CREATED:20210915T195754Z
LAST-MODIFIED:20210915T195754Z
UID:72-1632250800-1632258000@phillipston.org
SUMMARY:Events of Local Travelers on their 1835 Westward Journey
DESCRIPTION:Presented by Sandra Larson
URL:https://phillipston.org/event/events-of-local-travelers-on-their-1835-westward-journey/
LOCATION:Congregational Church Vestry\, The Commons\, Phillipston\, MA\, United States
END:VEVENT
END:VCALENDAR