BEGIN:VCALENDAR
VERSION:2.0
PRODID:-//Historical Society of Phillipston - ECPv6.15.20//NONSGML v1.0//EN
CALSCALE:GREGORIAN
METHOD:PUBLISH
X-WR-CALNAME:Historical Society of Phillipston
X-ORIGINAL-URL:https://phillipston.org
X-WR-CALDESC:Events for Historical Society of Phillipston
REFRESH-INTERVAL;VALUE=DURATION:PT1H
X-Robots-Tag:noindex
X-PUBLISHED-TTL:PT1H
BEGIN:VTIMEZONE
TZID:America/New_York
BEGIN:DAYLIGHT
TZOFFSETFROM:-0500
TZOFFSETTO:-0400
TZNAME:EDT
DTSTART:20240310T070000
END:DAYLIGHT
BEGIN:STANDARD
TZOFFSETFROM:-0400
TZOFFSETTO:-0500
TZNAME:EST
DTSTART:20241103T060000
END:STANDARD
BEGIN:DAYLIGHT
TZOFFSETFROM:-0500
TZOFFSETTO:-0400
TZNAME:EDT
DTSTART:20250309T070000
END:DAYLIGHT
BEGIN:STANDARD
TZOFFSETFROM:-0400
TZOFFSETTO:-0500
TZNAME:EST
DTSTART:20251102T060000
END:STANDARD
BEGIN:DAYLIGHT
TZOFFSETFROM:-0500
TZOFFSETTO:-0400
TZNAME:EDT
DTSTART:20260308T070000
END:DAYLIGHT
BEGIN:STANDARD
TZOFFSETFROM:-0400
TZOFFSETTO:-0500
TZNAME:EST
DTSTART:20261101T060000
END:STANDARD
END:VTIMEZONE
BEGIN:VEVENT
DTSTART;TZID=America/New_York:20250520T190000
DTEND;TZID=America/New_York:20250520T203000
DTSTAMP:20260425T082719
CREATED:20250408T204940Z
LAST-MODIFIED:20250408T204940Z
UID:496-1747767600-1747773000@phillipston.org
SUMMARY:Historical Society Annual Meeting
DESCRIPTION:Hold the Date! – Annual Meeting Tuesday\, May 20\, 2025. \nEveryone is welcome. You don’t have to be a member to attend. \nWant to make an impact? Be part of a group where your contribution is meaningful and appreciated? Have an interest in history? \nWould like to attend a meeting but can’t make it? We are an all-volunteer organization with many opportunities\, and we need your help. \nFor more information\, call Kay at 978-835-9088.
URL:https://phillipston.org/event/historical-society-annual-meeting/
LOCATION:Congregational Church Vestry\, The Commons\, Phillipston\, MA\, United States
END:VEVENT
BEGIN:VEVENT
DTSTART;TZID=America/New_York:20250715T190000
DTEND;TZID=America/New_York:20250715T200000
DTSTAMP:20260425T082719
CREATED:20250708T141824Z
LAST-MODIFIED:20250708T141954Z
UID:588-1752606000-1752609600@phillipston.org
SUMMARY:Historical Society of Phillipston meeting
DESCRIPTION:Join us to discuss ways in which we can help to preserve the history of the town and to share that information with folks near and far.
URL:https://phillipston.org/event/historical-society-of-phillipston-meeting/
LOCATION:Congregational Church Vestry\, The Commons\, Phillipston\, MA\, United States
CATEGORIES:Meetings
END:VEVENT
BEGIN:VEVENT
DTSTART;TZID=America/New_York:20250819T190000
DTEND;TZID=America/New_York:20250819T200000
DTSTAMP:20260425T082719
CREATED:20250716T102438Z
LAST-MODIFIED:20250716T124317Z
UID:593-1755630000-1755633600@phillipston.org
SUMMARY:Society Meeting
DESCRIPTION:Join us for our next meeting.
URL:https://phillipston.org/event/society-meeting-2/
LOCATION:Congregational Church Vestry\, The Commons\, Phillipston\, MA\, United States
END:VEVENT
BEGIN:VEVENT
DTSTART;TZID=America/New_York:20250916T183000
DTEND;TZID=America/New_York:20250916T193000
DTSTAMP:20260425T082719
CREATED:20250824T122723Z
LAST-MODIFIED:20250909T001222Z
UID:606-1758047400-1758051000@phillipston.org
SUMMARY:Society Meeting (Note time change)
DESCRIPTION:Next meeting is Tuesday\, September 16th at 6:30 PM at the museum to prepare for the History Tour.
URL:https://phillipston.org/event/society-meeting-note-time-change/
LOCATION:Historical Society of Phillipston Museum\, 80 State Road\, Phillipston\, MA\, 01331\, United States
END:VEVENT
END:VCALENDAR